BEGIN:VCALENDAR
VERSION:2.0
PRODID:-//Christian Women Conferences and Events - ECPv6.15.7//NONSGML v1.0//EN
CALSCALE:GREGORIAN
METHOD:PUBLISH
X-ORIGINAL-URL:https://rejoicewomen.com
X-WR-CALDESC:Events for Christian Women Conferences and Events
REFRESH-INTERVAL;VALUE=DURATION:PT1H
X-Robots-Tag:noindex
X-PUBLISHED-TTL:PT1H
BEGIN:VTIMEZONE
TZID:UTC
BEGIN:STANDARD
TZOFFSETFROM:+0000
TZOFFSETTO:+0000
TZNAME:UTC
DTSTART:20240101T000000
END:STANDARD
END:VTIMEZONE
BEGIN:VEVENT
DTSTART;TZID=UTC:20251115T110000
DTEND;TZID=UTC:20251115T133000
DTSTAMP:20260424T120914
CREATED:20250427T191844Z
LAST-MODIFIED:20250428T141250Z
UID:1674-1763204400-1763213400@rejoicewomen.com
SUMMARY:Women's Prayer Brunch
DESCRIPTION:REGISTER NOW \nAsk\, and it will be given to you; seek\, and you will find; knock\, and it will be opened to you.”— Matthew 7:7 \nGod invites us into a deeper relationship — one where we are not afraid to ask boldly\, seek Him earnestly\, and knock faithfully\, trusting that He will open every door meant for us. Join us as we engage in a powerful morning of prayer\, praise\, and fellowship with area women. \nWhether you are in a season of asking\, seeking\, or knocking\, there is a place for you at the table. \n\nOur speaker is Laurietta Faulkner from Virgilina\, VA. You’ll enjoy an all-you-can-eat brunch\, live music\, fellowship with area women\, and encouragement from God’s Word.\n\nTickets are only $25. A limited number of vendor spaces are available!
URL:https://rejoicewomen.com/calendar/womens-prayer-brunch/
LOCATION:Forest Recreation Center\, United States
CATEGORIES:Prayer
ATTACH;FMTTYPE=image/jpeg:https://rejoicewomen.com/wp-content/uploads/2025/04/brunch-post-resize.jpg
ORGANIZER;CN="Rejoice Women":MAILTO:events@rejoicewomen.com
END:VEVENT
BEGIN:VEVENT
DTSTART;TZID=UTC:20250815T190000
DTEND;TZID=UTC:20250816T160000
DTSTAMP:20260424T120914
CREATED:20250323T235117Z
LAST-MODIFIED:20250724T022703Z
UID:1646-1755284400-1755360000@rejoicewomen.com
SUMMARY:Women's Conference
DESCRIPTION:REGISTER NOW!\n  \nJoin us on in Richmond\, VA on Saturday\, August 16 for the 2025 Rejoice Women’s Conference – “Be Holy”.  You’ll hear from great speakers including Cynthia McCoy\, Alicia  Garcia \, Terri Kinlow\, Monica Brennan\, and Samantha Leigh! \nRooted in 1 Peter 1:15-16—”But just as He who called you is holy\, so be holy in all you do”—this conference is designed to equip and empower women to live set apart in a world that often pulls us in many directions. \nThrough dynamic speakers\, heartfelt worship\, and engaging workshops\, we will explore what it means to embrace holiness in our daily lives\, relationships\, and callings. Whether you are seeking renewal\, deeper connection with God\, or encouragement from a community of like-minded women\, this conference will inspire you to walk boldly in the holiness to which you are called. \nYou’ll enjoy amazing Praise & Worship\, shopping with vendors\, and more! \nGroups of 5 or more receive $5 OFF each ticket! Discount automatically applied on checkout! \nLunch will be available for purchase in the Hotel Restaurant.\n\nAll ticket sales are final\, no refunds. \n 
URL:https://rejoicewomen.com/calendar/womens-conference/
LOCATION:Delta Hotels Downtown Richmond\, VA\, 555 E Canal Street\, Richmond\, VA\, 23219\, United States
CATEGORIES:Womens Conference
ATTACH;FMTTYPE=image/jpeg:https://rejoicewomen.com/wp-content/uploads/2025/07/RW-2025-Conference-update2.jpg
ORGANIZER;CN="Rejoice Women":MAILTO:events@rejoicewomen.com
END:VEVENT
BEGIN:VEVENT
DTSTART;TZID=UTC:20250426T113000
DTEND;TZID=UTC:20250426T140000
DTSTAMP:20260424T120914
CREATED:20221115T140157Z
LAST-MODIFIED:20250103T024023Z
UID:1451-1745667000-1745676000@rejoicewomen.com
SUMMARY:Women's Tea Party
DESCRIPTION:Rejoice Women Annual Tea Party \nJoin us for Central Virginia’s biggest Tea Party! Come dressed in your favorite Tea-time attire and enjoy live music and a delicious all-you-can-eat Tea Party buffet!  Bring your Mom\, daughters\, sisters\, and friends! We’ll have fun\, games\, and door prizes too! Reserved tables are available for groups of 6 or more! \nTickets are $25 for adults and $12 for children age 10 and under. \nVendor spaces are available. \nClick here for tickets. This event normally sells out so get your tickets today!
URL:https://rejoicewomen.com/calendar/womens-tea-party/
LOCATION:Liberty Mountain Conference Center\, 3700 Candlers Mountain Road\, Lynchburg\, VA\, 24502\, United States
CATEGORIES:Womens Tea
ORGANIZER;CN="Rejoice Women":MAILTO:events@rejoicewomen.com
END:VEVENT
END:VCALENDAR